BEGIN:VCALENDAR
VERSION:2.0
PRODID:-//Church Admin Plugin//Website//EN
CALSCALE:GREGORIAN
METHOD:PUBLISH
BEGIN:VEVENT
UID:small-groups
TRANSP:OPAQUE
X-APPLE-TRAVEL-ADVISORY-BEHAVIOR:AUTOMATIC
DTSTART;VALUE=DATE:20260311T194500
DTEND;VALUE=DATE:20260311T213000
DTSTAMP:20260420T080653Z
CATEGORIES:Small Groups
LOCATION:@ the Bridle's house
DESCRIPTION:Small group bible study and prayer meeting
SUMMARY:Small Groups
END:VEVENT
END:VCALENDAR